BEGIN:VCALENDAR
VERSION:2.0
PRODID:-//Rotary Club Of Warwick - ECPv4.9.4//NONSGML v1.0//EN
CALSCALE:GREGORIAN
METHOD:PUBLISH
X-WR-CALNAME:Rotary Club Of Warwick
X-ORIGINAL-URL:https://www.warwickrotary.org.uk
X-WR-CALDESC:Events for Rotary Club Of Warwick
BEGIN:VTIMEZONE
TZID:"UTC"
BEGIN:STANDARD
TZOFFSETFROM:+0000
TZOFFSETTO:+0000
TZNAME:UTC
DTSTART:20230101T000000
END:STANDARD
END:VTIMEZONE
BEGIN:VEVENT
DTSTART;TZID="UTC":20230405T123000
DTEND;TZID="UTC":20230405T143000
DTSTAMP:20260421T123432
CREATED:20230303T151339Z
LAST-MODIFIED:20230303T152309Z
UID:8830-1680697800-1680705000@www.warwickrotary.org.uk
SUMMARY:Side By Side Theatre
DESCRIPTION:Penny Amis is coming to tell club about this unique theatre company for people with disabilities. \nRecently Club donated part of former member Paul Reynolds legacy to the group \n  \n  \n
URL:https://www.warwickrotary.org.uk/event/side-by-side-theatre/
LOCATION:Delta Marriott\, formerly Warwick Hilton\, Stratford Road\, Warwick\, CV34 6RE
CATEGORIES:Club Lunchtime Meeting
END:VEVENT
END:VCALENDAR