BEGIN:VCALENDAR
VERSION:2.0
PRODID:-//Rotary Club Of Warwick - ECPv4.9.4//NONSGML v1.0//EN
CALSCALE:GREGORIAN
METHOD:PUBLISH
X-WR-CALNAME:Rotary Club Of Warwick
X-ORIGINAL-URL:https://www.warwickrotary.org.uk
X-WR-CALDESC:Events for Rotary Club Of Warwick
BEGIN:VTIMEZONE
TZID:"UTC"
BEGIN:STANDARD
TZOFFSETFROM:+0000
TZOFFSETTO:+0000
TZNAME:UTC
DTSTART:20230101T000000
END:STANDARD
END:VTIMEZONE
BEGIN:VEVENT
DTSTART;TZID="UTC":20231101T123000
DTEND;TZID="UTC":20231101T140000
DTSTAMP:20260421T213315
CREATED:20231029T123050Z
LAST-MODIFIED:20231029T123050Z
UID:9051-1698841800-1698847200@www.warwickrotary.org.uk
SUMMARY:Speaker Simon Pargeter on Health & Social Care
DESCRIPTION:Club lunch with speaker\, \nAll welcome to attend. \n
URL:https://www.warwickrotary.org.uk/event/speaker-simon-pargeter-on-health-social-care/
LOCATION:Delta Marriott\, formerly Warwick Hilton\, Stratford Road\, Warwick
CATEGORIES:Club Lunchtime Meeting
ORGANIZER;CN="Laurie%20Day%2C%2001926%20410%20891":MAILTO:laurieday34@gmail.com
END:VEVENT
END:VCALENDAR