BEGIN:VCALENDAR
VERSION:2.0
PRODID:-//Rotary Club Of Warwick - ECPv4.9.4//NONSGML v1.0//EN
CALSCALE:GREGORIAN
METHOD:PUBLISH
X-WR-CALNAME:Rotary Club Of Warwick
X-ORIGINAL-URL:https://www.warwickrotary.org.uk
X-WR-CALDESC:Events for Rotary Club Of Warwick
BEGIN:VTIMEZONE
TZID:"UTC"
BEGIN:STANDARD
TZOFFSETFROM:+0000
TZOFFSETTO:+0000
TZNAME:UTC
DTSTART:20180101T000000
END:STANDARD
END:VTIMEZONE
BEGIN:VEVENT
DTSTART;VALUE=DATE:20180119
DTEND;VALUE=DATE:20180120
DTSTAMP:20260422T183722
CREATED:20180112T102309Z
LAST-MODIFIED:20180112T102754Z
UID:5383-1516320000-1516406399@www.warwickrotary.org.uk
SUMMARY:Store Collection
DESCRIPTION:Warwick Rotary are pleased to announce that they will be organising a collection at Tesco’s Store  in Emscote\,  Warwick\,  on January 19th\, the proceeds of which will be going to the charities supported by this year’s President. \nThese are: \nThe Stroke Association \nMacmillan Cancer Support \nWe hope you will give us your support. \n
URL:https://www.warwickrotary.org.uk/event/store-collection-3/
LOCATION:Tesco Stores\, Emscote Road\, Warwick\, CV34 5QJ
CATEGORIES:Outside event
END:VEVENT
END:VCALENDAR