BEGIN:VCALENDAR
VERSION:2.0
PRODID:-//Rotary Club Of Warwick - ECPv4.9.4//NONSGML v1.0//EN
CALSCALE:GREGORIAN
METHOD:PUBLISH
X-WR-CALNAME:Rotary Club Of Warwick
X-ORIGINAL-URL:https://www.warwickrotary.org.uk
X-WR-CALDESC:Events for Rotary Club Of Warwick
BEGIN:VTIMEZONE
TZID:"UTC"
BEGIN:STANDARD
TZOFFSETFROM:+0000
TZOFFSETTO:+0000
TZNAME:UTC
DTSTART:20170101T000000
END:STANDARD
END:VTIMEZONE
BEGIN:VEVENT
DTSTART;TZID="UTC":20170429T100000
DTEND;TZID="UTC":20170429T160000
DTSTAMP:20260423T011809
CREATED:20170417T114234Z
LAST-MODIFIED:20170417T114850Z
UID:4775-1493460000-1493481600@www.warwickrotary.org.uk
SUMMARY:Stroke Awareness Day
DESCRIPTION:Be aware.\nAs part of our stroke awareness campaign\, on Saturday April 29th a caravan will be stationed in the Market Square in which members of the medical profession will be pleased to check your blood pressure. \nThis service is provided free of charge.   No treatment will be given but you will be advised if it is thought advisable for you to see your own doctor to have further checks. \nThe caravan is kindly provided by Broad Lane Caravans.  \nEverybody is invited to take advantage of this facility. \n  \n
URL:https://www.warwickrotary.org.uk/event/stroke-awareness-day-2/
LOCATION:Market Square
CATEGORIES:Outside event
END:VEVENT
END:VCALENDAR