BEGIN:VCALENDAR
VERSION:2.0
PRODID:-//Rotary Club Of Warwick - ECPv4.9.4//NONSGML v1.0//EN
CALSCALE:GREGORIAN
METHOD:PUBLISH
X-WR-CALNAME:Rotary Club Of Warwick
X-ORIGINAL-URL:https://www.warwickrotary.org.uk
X-WR-CALDESC:Events for Rotary Club Of Warwick
BEGIN:VTIMEZONE
TZID:"UTC"
BEGIN:STANDARD
TZOFFSETFROM:+0000
TZOFFSETTO:+0000
TZNAME:UTC
DTSTART:20220101T000000
END:STANDARD
END:VTIMEZONE
BEGIN:VEVENT
DTSTART;TZID="UTC":20220831T180000
DTEND;TZID="UTC":20220831T210000
DTSTAMP:20260421T143242
CREATED:20220817T074049Z
LAST-MODIFIED:20220817T080829Z
UID:8634-1661968800-1661979600@www.warwickrotary.org.uk
SUMMARY:Summer BBQ
DESCRIPTION:President elect Alan Bailey invites members and their partners to join him at Billesley for a summer BBQ \nContact Alan for a place \n \n  \n  \n
URL:https://www.warwickrotary.org.uk/event/summer-bbq/
LOCATION:Private home\, Billesley
CATEGORIES:Club Early Evening Meeting
END:VEVENT
END:VCALENDAR