BEGIN:VCALENDAR
VERSION:2.0
PRODID:-//Rotary Club Of Warwick - ECPv4.9.4//NONSGML v1.0//EN
CALSCALE:GREGORIAN
METHOD:PUBLISH
X-WR-CALNAME:Rotary Club Of Warwick
X-ORIGINAL-URL:https://www.warwickrotary.org.uk
X-WR-CALDESC:Events for Rotary Club Of Warwick
BEGIN:VTIMEZONE
TZID:"UTC"
BEGIN:STANDARD
TZOFFSETFROM:+0000
TZOFFSETTO:+0000
TZNAME:UTC
DTSTART:20140101T000000
END:STANDARD
END:VTIMEZONE
BEGIN:VEVENT
DTSTART;TZID="UTC":20141108T170000
DTEND;TZID="UTC":20141108T200000
DTSTAMP:20260424T011853
CREATED:20141108T091653Z
LAST-MODIFIED:20141108T132217Z
UID:1809-1415466000-1415476800@www.warwickrotary.org.uk
SUMMARY:Town Bonfire
DESCRIPTION: Children build Guys for Town Bonfire –  Sat Nov 8th\nRemember\, remember the 8th of November\, gunpowder\, treason\, and plots…and Bonfires! \nCllr Moira-Ann Grainger\, Mayor of Warwick\, and sponsors Taylor Wimpey visited Newburgh Primary School on Tuesday to see the Guy made by children from year 1 and hear about the Gunpowder Plot. \n  \nThe Mayor then went to Westgate School where year 1 had made a very realistic Guy. \nA prize of £200 donated by Taylor Wimpey will be shared between the schools and will buy new books for their libraries \n  \nBoth the Guys will be placed on the Warwick Bonfire to be lit by the Mayor on Nov 8th at 6.30 at Warwick racecourse. Gates open at 5pm and there is plenty to do before the bonfire and firework show starts. \n  \nOrganisers are expecting a good crowd and there is free parking at the racecourse\, and several food outlets with hot food\, hot punch and candy floss\, as well as a children’s play area. \n  \nTickets can be purchased; in Warwick from Torrys in West Street; the main Post Office; Claridges; Cabin News; Mellors; Warwick vacuum shop; and the Tourist Information Centres in Warwick and Leamington; as well as Woodloes Post Office; and The Larder Box cafe at Chase Meadows. Details of the arrangements can be found on-line through the website www.warwicktownbonfire.org.uk; \nAdvance tickets – Adults and children 12 and over – £5; accompanying children under 12 free; On the gate adults and children 12 and over  £6; children under 12 £2; infants under 2yrs old free so it’s worth buying early. \n  \nThe event is organised by Warwick Lions and the Rotary Club of Warwick\, with all proceeds going to local charities and good causes. \nSponsorship has been provided by Warringtons of Warwick\, The Tuckery\, and pallets for the bonfire are being provided by Unipart. \n   \n  \n  \n  \n
URL:https://www.warwickrotary.org.uk/event/town-bonfire/
LOCATION:Warwick Racecourse\, Hampton Street\, Warwick\, CV34 6HN\, United Kingdom
CATEGORIES:Outside event
END:VEVENT
END:VCALENDAR