BEGIN:VCALENDAR
VERSION:2.0
PRODID:-//Rotary Club Of Warwick - ECPv4.9.4//NONSGML v1.0//EN
CALSCALE:GREGORIAN
METHOD:PUBLISH
X-WR-CALNAME:Rotary Club Of Warwick
X-ORIGINAL-URL:https://www.warwickrotary.org.uk
X-WR-CALDESC:Events for Rotary Club Of Warwick
BEGIN:VTIMEZONE
TZID:"UTC"
BEGIN:STANDARD
TZOFFSETFROM:+0000
TZOFFSETTO:+0000
TZNAME:UTC
DTSTART:20220101T000000
END:STANDARD
END:VTIMEZONE
BEGIN:VEVENT
DTSTART;TZID="UTC":20220928T123000
DTEND;TZID="UTC":20220928T140000
DTSTAMP:20260421T161004
CREATED:20220926T162403Z
LAST-MODIFIED:20220926T163525Z
UID:8672-1664368200-1664373600@www.warwickrotary.org.uk
SUMMARY:Visit from District Governors
DESCRIPTION:Visiting District Governor Paul Frostick from D1120 will be joined by our own DG  John Parkinson for lunch. \nAny Rotarians or interested persons are welcome to join us. \n
URL:https://www.warwickrotary.org.uk/event/visit-from-district-governors/
LOCATION:Delta Marriott\, formerly Warwick Hilton\, Stratford Road\, Warwick\, CV34 6RE
CATEGORIES:Club Lunchtime Meeting
END:VEVENT
END:VCALENDAR