BEGIN:VCALENDAR
VERSION:2.0
PRODID:-//Rotary Club Of Warwick - ECPv4.9.4//NONSGML v1.0//EN
CALSCALE:GREGORIAN
METHOD:PUBLISH
X-WR-CALNAME:Rotary Club Of Warwick
X-ORIGINAL-URL:https://www.warwickrotary.org.uk
X-WR-CALDESC:Events for Rotary Club Of Warwick
BEGIN:VTIMEZONE
TZID:"UTC"
BEGIN:STANDARD
TZOFFSETFROM:+0000
TZOFFSETTO:+0000
TZNAME:UTC
DTSTART:20250101T000000
END:STANDARD
END:VTIMEZONE
BEGIN:VEVENT
DTSTART;TZID="UTC":20250430T183000
DTEND;TZID="UTC":20250430T210000
DTSTAMP:20260421T162707
CREATED:20250405T092927Z
LAST-MODIFIED:20250405T092927Z
UID:9547-1746037800-1746046800@www.warwickrotary.org.uk
SUMMARY:Visit from US Rotarians from Warwick Newport News
DESCRIPTION:We are delighted to welcome visitors from the Rotary Club of Warwick in Virginia News. \nThis is their final night after visiting Warwick & Stratford on 29th & 30th. \nDinner by invitation only. \n
URL:https://www.warwickrotary.org.uk/event/visit-from-us-rotarians-from-warwick-newport-news/
CATEGORIES:Club Early Evening Meeting
END:VEVENT
END:VCALENDAR