BEGIN:VCALENDAR
VERSION:2.0
PRODID:-//Rotary Club Of Warwick - ECPv4.9.4//NONSGML v1.0//EN
CALSCALE:GREGORIAN
METHOD:PUBLISH
X-WR-CALNAME:Rotary Club Of Warwick
X-ORIGINAL-URL:https://www.warwickrotary.org.uk
X-WR-CALDESC:Events for Rotary Club Of Warwick
BEGIN:VTIMEZONE
TZID:"UTC"
BEGIN:STANDARD
TZOFFSETFROM:+0000
TZOFFSETTO:+0000
TZNAME:UTC
DTSTART:20190101T000000
END:STANDARD
END:VTIMEZONE
BEGIN:VEVENT
DTSTART;TZID="UTC":20191102T163000
DTEND;TZID="UTC":20191102T200000
DTSTAMP:20260422T023315
CREATED:20190930T100041Z
LAST-MODIFIED:20191002T104915Z
UID:7009-1572712200-1572724800@www.warwickrotary.org.uk
SUMMARY:Warwick Bonfire & Fireworks Display
DESCRIPTION:Warwick Town Bonfire– Sat Nov 2nd – Astronauts & Aliens free entry\n\nSpace is the theme at Warwick Town Bonfire this year with their firework show set to the music of STAR WARS! Children under 15 dressed as Astronauts or Aliens will have free entry with a range of light sabres and bright swords to buy for an exciting evening.\nOrganisers Warwick Lions\, Warwick Rotary Club and Warwick Racecourse have brought in award winning Fantastic Fireworks to provide 30 minutes of top class fireworks set to the music of Star Wars.\nA range of hot foods and refreshments will be available across the site with all bars open. You can reserve a table for a chilli supper in the Kingmaker restaurant with a great view of the show. Music will be provided by the popular Ukulele Band.\nThe racecourse grandstands offer a great view of the Bonfire and Firework show across the track on the common. There will be a short 5-minute display at 6pm to keep the children entertained\, with the main firework show after the fire is lit at 6.30.\nTickets are available now on-line at Warwick Racecourse and in local shops.\nAdvance tickets – Adults and children over 15 – £7; children under 15 £1;\nOn the gate adults and children over 15 £8; children 15 and under £2; infants under 3yrs old free\, so it’s worth buying early.\nGates open at 4.30 pm to allow more time for children to enjoy the funfair on St Mary’s car park in Hampton Road. Entry is at the main entrance off Bread & Meat Close\, with free parking\, access also off Hampton Road to the show and funfair.\nTickets are also available locally at Torrys in West Street; the main Post Office; Claridges; Cabin News; Mellors; Warwick Vacuum shop; and the Tourist Information Centres in Warwick and Leamington; as well as Woodloes Post Office; and Chase Meadow Community Centre. Further information at www.warwicktownbonfire.org\nLocal companies Geberit\, Moore & Tibbitts and Uniparts Logistics are supporting the event and organisers are hoping to exceed last year’s crowds which raised over £15\,000 for local charities and good causes.\n
URL:https://www.warwickrotary.org.uk/event/warwick-bonfire-fireworks-display/
LOCATION:Warwick Racecourse\, Hampton Road\, Warwick\, CV346 HN
CATEGORIES:Outside event
END:VEVENT
END:VCALENDAR