BEGIN:VCALENDAR
VERSION:2.0
PRODID:-//Rotary Club Of Warwick - ECPv4.9.4//NONSGML v1.0//EN
CALSCALE:GREGORIAN
METHOD:PUBLISH
X-WR-CALNAME:Rotary Club Of Warwick
X-ORIGINAL-URL:https://www.warwickrotary.org.uk
X-WR-CALDESC:Events for Rotary Club Of Warwick
BEGIN:VTIMEZONE
TZID:"UTC"
BEGIN:STANDARD
TZOFFSETFROM:+0000
TZOFFSETTO:+0000
TZNAME:UTC
DTSTART:20190101T000000
END:STANDARD
END:VTIMEZONE
BEGIN:VEVENT
DTSTART;TZID="UTC":20190303T080000
DTEND;TZID="UTC":20190303T170000
DTSTAMP:20260422T092258
CREATED:20190111T173828Z
LAST-MODIFIED:20190111T175145Z
UID:6293-1551600000-1551632400@www.warwickrotary.org.uk
SUMMARY:Warwick Half Marathon
DESCRIPTION:  \nThe Warwick Half Marathon\, run in aid of the British Heart Foundation will take place from Warwick Racecourse on Sunday March 3rd\, 2019. \nIt will follow its traditional route through the lovely Warwickshire countryside providing athletes with an excellent opportunity to compete in an undulating\, traffic free road race. \nThis run is suitable for runners of all abilities and wheelchair users. Medals are awarded for all participants. \nThis event is UKA affiliated\, so you can count it towards your official times this running season. \nFor further information and to register for the event visit the website below \nhttps://www.thejockeyclub.co.uk/warwick/events-tickets/warwick-marathon/ \n
URL:https://www.warwickrotary.org.uk/event/warwick-half-marathon/
LOCATION:Warwick Racecourse\, Hampton Street\, Warwick\, CV34 6HN\, United Kingdom
CATEGORIES:Outside event
END:VEVENT
END:VCALENDAR