BEGIN:VCALENDAR
VERSION:2.0
PRODID:-//Rotary Club Of Warwick - ECPv4.9.4//NONSGML v1.0//EN
CALSCALE:GREGORIAN
METHOD:PUBLISH
X-WR-CALNAME:Rotary Club Of Warwick
X-ORIGINAL-URL:https://www.warwickrotary.org.uk
X-WR-CALDESC:Events for Rotary Club Of Warwick
BEGIN:VTIMEZONE
TZID:"UTC"
BEGIN:STANDARD
TZOFFSETFROM:+0000
TZOFFSETTO:+0000
TZNAME:UTC
DTSTART:20200101T000000
END:STANDARD
END:VTIMEZONE
BEGIN:VEVENT
DTSTART;TZID="UTC":20200225T130000
DTEND;TZID="UTC":20200225T143000
DTSTAMP:20260422T023414
CREATED:20190905T150022Z
LAST-MODIFIED:20200225T150007Z
UID:6949-1582635600-1582641000@www.warwickrotary.org.uk
SUMMARY:Warwick Pancake Race
DESCRIPTION:Please put the date in your diaries for the Annual Pancake Day races for both children and adults\, and start putting a team together to compete. \nThis exciting event has been taking place in Warwick Market Place for many years and most Warwick schools come along for the joy of competing and supporting their teams.   Pancakes and drinks are generously provided by our sponsors and\, not to be outdone\, local businesses also enter the Adults races – many of them dressing up for the occasion. \nSo\, if you don’t want to compete\, why not come along to cheer on the intrepid souls who will be running. \nPancake Poster 2020\n  \nRegrettably this event had to be cancelled at the last minute due to torrential rain and sleet which would have made it unsafe for the participants to run.\nWe sincerely apologise for any inconvenience that was caused.\n  \n  \n
URL:https://www.warwickrotary.org.uk/event/warwick-pancake-race-2/
LOCATION:Market Square
CATEGORIES:Outside event
END:VEVENT
END:VCALENDAR