BEGIN:VCALENDAR
VERSION:2.0
PRODID:-//Rotary Club Of Warwick - ECPv4.9.4//NONSGML v1.0//EN
CALSCALE:GREGORIAN
METHOD:PUBLISH
X-WR-CALNAME:Rotary Club Of Warwick
X-ORIGINAL-URL:https://www.warwickrotary.org.uk
X-WR-CALDESC:Events for Rotary Club Of Warwick
BEGIN:VTIMEZONE
TZID:"UTC"
BEGIN:STANDARD
TZOFFSETFROM:+0000
TZOFFSETTO:+0000
TZNAME:UTC
DTSTART:20230101T000000
END:STANDARD
END:VTIMEZONE
BEGIN:VEVENT
DTSTART;TZID="UTC":20230228T130000
DTEND;TZID="UTC":20230228T143000
DTSTAMP:20260421T111353
CREATED:20230122T164826Z
LAST-MODIFIED:20230122T164845Z
UID:8793-1677589200-1677594600@www.warwickrotary.org.uk
SUMMARY:Warwick Pancake races- Feb 28th
DESCRIPTION:Annual Pancake races return to Market square. \nAdult races from 1pm\, Children from local schools 1.30. \nWarwick Mayor & Rotary President will preside as 100’s of children fill the square with squeals and spills! \nCome along and join in the fun – if you want to race – form a team of 4 and bring £10 per team – prizes to be won. \n    \n
URL:https://www.warwickrotary.org.uk/event/warwick-pancake-races-feb-28th/
LOCATION:Market Square
END:VEVENT
END:VCALENDAR