BEGIN:VCALENDAR
VERSION:2.0
PRODID:-//Rotary Club Of Warwick - ECPv4.9.4//NONSGML v1.0//EN
CALSCALE:GREGORIAN
METHOD:PUBLISH
X-WR-CALNAME:Rotary Club Of Warwick
X-ORIGINAL-URL:https://www.warwickrotary.org.uk
X-WR-CALDESC:Events for Rotary Club Of Warwick
BEGIN:VTIMEZONE
TZID:"UTC"
BEGIN:STANDARD
TZOFFSETFROM:+0000
TZOFFSETTO:+0000
TZNAME:UTC
DTSTART:20180101T000000
END:STANDARD
END:VTIMEZONE
BEGIN:VEVENT
DTSTART;TZID="UTC":20180213T130000
DTEND;TZID="UTC":20180213T130000
DTSTAMP:20260422T201643
CREATED:20180129T172635Z
LAST-MODIFIED:20180129T173047Z
UID:5405-1518526800-1518526800@www.warwickrotary.org.uk
SUMMARY:Warwick Pancake Races for all
DESCRIPTION:Come and keep a tradition alive – -we are looking for teams to come and race. \nOn Tuesday\, February 13th\, Warwick Mayor\, Cllr Stephen Cross\, will set off local children in the annual pancake races organised by Rotary Club of Warwick. \nChildren from local primary schools keep a tradition alive by racing in Warwick’s Market Square. “Grown –ups” are also invited to join in\, with local businesses invited to sign up. If you can find a team of four for £10 they can race at 1.pm and prizes will be given to the winning team. \nThe children’s races start at 1.30 and will be cheered on by a large turn-out of parents\, class mates and spectators. This year’s event is supported again by Tesco\, providing the prize eggs and pancakes; The Globe supplying hot pancakes; and Thomas Lloyd in the Market square brewing coffee to keep the crowds warm. \nA trophy will be awarded to each winning team and cream eggs given out to the children. Rotary club organiser Jackie Crampton said “this is a nice way to keep a tradition alive. We are hoping for better weather than last year when the children’s races had to be cancelled when the weather deteriorated”. Warwick Rotarians are out in force to marshall the event and this is one of the events we arrange for the local community.” \n \nPictures from previous events: \n  \nFor further information contact:\nJackie Crampton\, Rotary Club 01926 492496 \n  \n
URL:https://www.warwickrotary.org.uk/event/warwick-pancake-races-for-all/
LOCATION:Market Square
CATEGORIES:Outside event
END:VEVENT
END:VCALENDAR