BEGIN:VCALENDAR
VERSION:2.0
PRODID:-//Rotary Club Of Warwick - ECPv4.9.4//NONSGML v1.0//EN
CALSCALE:GREGORIAN
METHOD:PUBLISH
X-WR-CALNAME:Rotary Club Of Warwick
X-ORIGINAL-URL:https://www.warwickrotary.org.uk
X-WR-CALDESC:Events for Rotary Club Of Warwick
BEGIN:VTIMEZONE
TZID:"UTC"
BEGIN:STANDARD
TZOFFSETFROM:+0000
TZOFFSETTO:+0000
TZNAME:UTC
DTSTART:20150101T000000
END:STANDARD
END:VTIMEZONE
BEGIN:VEVENT
DTSTART;TZID="UTC":20150224T130000
DTEND;TZID="UTC":20150224T150000
DTSTAMP:20260423T203750
CREATED:20150120T123904Z
LAST-MODIFIED:20150206T165220Z
UID:2089-1424782800-1424790000@www.warwickrotary.org.uk
SUMMARY:Warwick Rotary Pancake Race
DESCRIPTION:On Tuesday\, February 24th\, Warwick Mayor\, Moira Ann Grainger\, will set off local children in the annual pancake races organised by Rotary Club of Warwick.\nNow before you all scream at us – ‘It’s not pancake day’ – can we point out that on February 17th – which is Shrove Tuesday – the children will be on half-term holiday\, so rather than disappoint them we have put the races back a week.\nChildren from local primary schools compete in Warwick Market Square\, and previous winners – Infants from Newburgh School\, and Juniors from Coten End School\, will be keen to hold on their trophies. Teams from 5 schools are anticipated\, and this exciting event keeps a tradition alive.\nThis year the Rotary Club is inviting the “grown –ups” to join in too\, if you can find a team of four for £10 they can race at 1.pm for Easter egg prizes.\nThe children’s races start at 1.30 and will be cheered on by a large turn-out of parents\, class mates and spectators. This year’s event is supported by Tesco who are providing the prize eggs and pancakes\, the Rose and Crown public house supplying hot pancakes; and Thomas Lloyd in the Market square brewing coffee to keep the crowds warm.\nA trophy will be awarded to each winning team and cream eggs given out to the children. Rotary President Jackie Crampton said “this is a nice way to keep a tradition alive”. Warwick Rotarians are out in force to marshall the event and this is one of the events we arrange for the local community.”\nPictures of previous events can be seen on the Rotary Club website\, www.warwickrotary.org.uk. whilst some from last year can be seen below. \n  \n  \n \n \n \nThe Infants winners from Newburgh School\, together with Sarah Wrist from Tesco\, Mayor Counc.Bob Dhillon and Rotary President Mike Swaby \n  \nThe sporting team from Warwick Works\, ready to cook the pancake in the evening \n
URL:https://www.warwickrotary.org.uk/event/warwick-rotary-pancake-race/
LOCATION:Market Square
CATEGORIES:Outside event
END:VEVENT
END:VCALENDAR