BEGIN:VCALENDAR
VERSION:2.0
PRODID:-//Rotary Club Of Warwick - ECPv4.9.4//NONSGML v1.0//EN
CALSCALE:GREGORIAN
METHOD:PUBLISH
X-WR-CALNAME:Rotary Club Of Warwick
X-ORIGINAL-URL:https://www.warwickrotary.org.uk
X-WR-CALDESC:Events for Rotary Club Of Warwick
BEGIN:VTIMEZONE
TZID:"UTC"
BEGIN:STANDARD
TZOFFSETFROM:+0000
TZOFFSETTO:+0000
TZNAME:UTC
DTSTART:20220101T000000
END:STANDARD
END:VTIMEZONE
BEGIN:VEVENT
DTSTART;VALUE=DATE:20220709
DTEND;VALUE=DATE:20220711
DTSTAMP:20260421T175239
CREATED:20220628T095304Z
LAST-MODIFIED:20220628T095304Z
UID:8585-1657324800-1657497599@www.warwickrotary.org.uk
SUMMARY:Warwick Rotary Thai festival
DESCRIPTION: \n
URL:https://www.warwickrotary.org.uk/event/warwick-rotary-thai-festival/
LOCATION:Warwick Racecourse\, Hampton Road\, Warwick\, CV346 HN
END:VEVENT
END:VCALENDAR