BEGIN:VCALENDAR
VERSION:2.0
PRODID:-//Rotary Club Of Warwick - ECPv4.9.4//NONSGML v1.0//EN
CALSCALE:GREGORIAN
METHOD:PUBLISH
X-WR-CALNAME:Rotary Club Of Warwick
X-ORIGINAL-URL:https://www.warwickrotary.org.uk
X-WR-CALDESC:Events for Rotary Club Of Warwick
BEGIN:VTIMEZONE
TZID:"UTC"
BEGIN:STANDARD
TZOFFSETFROM:+0000
TZOFFSETTO:+0000
TZNAME:UTC
DTSTART:20230101T000000
END:STANDARD
END:VTIMEZONE
BEGIN:VEVENT
DTSTART;VALUE=DATE:20230708
DTEND;VALUE=DATE:20230710
DTSTAMP:20260421T213218
CREATED:20230303T154351Z
LAST-MODIFIED:20230303T154351Z
UID:8848-1688774400-1688947199@www.warwickrotary.org.uk
SUMMARY:Warwick Thai Festival July 8th & 9th
DESCRIPTION:Popular weekend event returns to Warwick Racecourse \nPartners Magic of Thailand bring the sights and sounds of the orient\, with dancers\, boxing\, and food stalls. \nTickets will be available on-line shortly. \n    \n
URL:https://www.warwickrotary.org.uk/event/warwick-thai-festival-july-8th-9th/
LOCATION:Warwick Racecourse\, Hampton Street\, Warwick\, CV34 6HN\, United Kingdom
CATEGORIES:Outside event
END:VEVENT
END:VCALENDAR