BEGIN:VCALENDAR
VERSION:2.0
PRODID:-//Rotary Club Of Warwick - ECPv4.9.4//NONSGML v1.0//EN
CALSCALE:GREGORIAN
METHOD:PUBLISH
X-WR-CALNAME:Rotary Club Of Warwick
X-ORIGINAL-URL:https://www.warwickrotary.org.uk
X-WR-CALDESC:Events for Rotary Club Of Warwick
BEGIN:VTIMEZONE
TZID:"UTC"
BEGIN:STANDARD
TZOFFSETFROM:+0000
TZOFFSETTO:+0000
TZNAME:UTC
DTSTART:20240101T000000
END:STANDARD
END:VTIMEZONE
BEGIN:VEVENT
DTSTART;VALUE=DATE:20240629
DTEND;VALUE=DATE:20240630
DTSTAMP:20260421T213304
CREATED:20240514T124620Z
LAST-MODIFIED:20240514T124620Z
UID:9200-1719619200-1719705599@www.warwickrotary.org.uk
SUMMARY:Warwick Thai festival - June 29 & 30
DESCRIPTION:   \nPopular Thai festival returns to Warwick Racecourse for the 20th year. \n2 days of music\, dance and delicious food will entertain crowds. \nGet your tickets in advance or on the gate. \n \n
URL:https://www.warwickrotary.org.uk/event/warwick-thai-festival-june-29-30/
LOCATION:Warwick Racecourse\, Hampton Street\, Warwick\, CV34 6HN\, United Kingdom
CATEGORIES:Outside event
END:VEVENT
END:VCALENDAR