BEGIN:VCALENDAR
VERSION:2.0
PRODID:-//Rotary Club Of Warwick - ECPv4.9.4//NONSGML v1.0//EN
CALSCALE:GREGORIAN
METHOD:PUBLISH
X-WR-CALNAME:Rotary Club Of Warwick
X-ORIGINAL-URL:https://www.warwickrotary.org.uk
X-WR-CALDESC:Events for Rotary Club Of Warwick
BEGIN:VTIMEZONE
TZID:"UTC"
BEGIN:STANDARD
TZOFFSETFROM:+0000
TZOFFSETTO:+0000
TZNAME:UTC
DTSTART:20230101T000000
END:STANDARD
END:VTIMEZONE
BEGIN:VEVENT
DTSTART;TZID="UTC":20231104T170000
DTEND;TZID="UTC":20231104T170000
DTSTAMP:20260421T212705
CREATED:20231029T120443Z
LAST-MODIFIED:20231029T120443Z
UID:9031-1699117200-1699117200@www.warwickrotary.org.uk
SUMMARY:Warwick Town Bonfire
DESCRIPTION: \nPopular event returns to racecourse. \nFireworks by Fantastic Fireworks\, tickets from Jockey club /Warwick \n
URL:https://www.warwickrotary.org.uk/event/warwick-town-bonfire-6/
LOCATION:Warwick Racecourse\, Hampton Street\, Warwick\, CV34 6HN\, United Kingdom
CATEGORIES:Outside event
END:VEVENT
END:VCALENDAR