BEGIN:VCALENDAR
VERSION:2.0
PRODID:-//Rotary Club Of Warwick - ECPv4.9.4//NONSGML v1.0//EN
CALSCALE:GREGORIAN
METHOD:PUBLISH
X-WR-CALNAME:Rotary Club Of Warwick
X-ORIGINAL-URL:https://www.warwickrotary.org.uk
X-WR-CALDESC:Events for Rotary Club Of Warwick
BEGIN:VTIMEZONE
TZID:"UTC"
BEGIN:STANDARD
TZOFFSETFROM:+0000
TZOFFSETTO:+0000
TZNAME:UTC
DTSTART:20230101T000000
END:STANDARD
END:VTIMEZONE
BEGIN:VEVENT
DTSTART;TZID="UTC":20230712T183000
DTEND;TZID="UTC":20230712T203000
DTSTAMP:20260421T194400
CREATED:20230711T094640Z
LAST-MODIFIED:20230711T094640Z
UID:8969-1689186600-1689193800@www.warwickrotary.org.uk
SUMMARY:Warwick Words festival
DESCRIPTION:David Howe will tell us about the upcoming Warwick Words festival in October. \nAll welcome to join us for our meeting – meal at 7pm\, speaker at 7.30\, \na chance to find out about the work of our club. \n
URL:https://www.warwickrotary.org.uk/event/warwick-words-festival/
LOCATION:Delta Marriott\, formerly Warwick Hilton\, Stratford Road\, Warwick\, CV34 6RE
CATEGORIES:Club Early Evening Meeting
END:VEVENT
END:VCALENDAR