BEGIN:VCALENDAR
VERSION:2.0
PRODID:-//Rotary Club Of Warwick - ECPv4.9.4//NONSGML v1.0//EN
CALSCALE:GREGORIAN
METHOD:PUBLISH
X-WR-CALNAME:Rotary Club Of Warwick
X-ORIGINAL-URL:https://www.warwickrotary.org.uk
X-WR-CALDESC:Events for Rotary Club Of Warwick
BEGIN:VTIMEZONE
TZID:"UTC"
BEGIN:STANDARD
TZOFFSETFROM:+0000
TZOFFSETTO:+0000
TZNAME:UTC
DTSTART:20230101T000000
END:STANDARD
END:VTIMEZONE
BEGIN:VEVENT
DTSTART;TZID="UTC":20230809T183000
DTEND;TZID="UTC":20230809T200000
DTSTAMP:20260421T194326
CREATED:20230727T165614Z
LAST-MODIFIED:20230727T165628Z
UID:8980-1691605800-1691611200@www.warwickrotary.org.uk
SUMMARY:Warwickshire Young carers
DESCRIPTION:Open Evening – come and hear Tracey Beasley talk about the work of Warwickshire Young carers. \n \n
URL:https://www.warwickrotary.org.uk/event/warwickshire-young-carers/
LOCATION:Delta Marriott\, formerly Warwick Hilton\, Stratford Road\, Warwick\, CV34 6RE
CATEGORIES:Club Early Evening Meeting
END:VEVENT
END:VCALENDAR