BEGIN:VCALENDAR
VERSION:2.0
PRODID:-//Rotary Club Of Warwick - ECPv4.9.4//NONSGML v1.0//EN
CALSCALE:GREGORIAN
METHOD:PUBLISH
X-WR-CALNAME:Rotary Club Of Warwick
X-ORIGINAL-URL:https://www.warwickrotary.org.uk
X-WR-CALDESC:Events for Rotary Club Of Warwick
BEGIN:VTIMEZONE
TZID:"UTC"
BEGIN:STANDARD
TZOFFSETFROM:+0000
TZOFFSETTO:+0000
TZNAME:UTC
DTSTART:20230101T000000
END:STANDARD
END:VTIMEZONE
BEGIN:VEVENT
DTSTART;TZID="UTC":20230412T183000
DTEND;TZID="UTC":20230412T203000
DTSTAMP:20260421T124033
CREATED:20230303T152832Z
LAST-MODIFIED:20230303T154622Z
UID:8838-1681324200-1681331400@www.warwickrotary.org.uk
SUMMARY:What did you do in the War - Dad?
DESCRIPTION:Alistair Price talks about his father Squadron Leader Kenneth Price DFC \, who was born in Coventry and joined the Bomber Command in 1938 completing 58 trips before being shot down in July 1943. \nHe was betrayed to the Gestapo\, and spent 2 years in Stalag Luft 111\, although he survived the war\, he died quite young in 1980 \, due to a great extent the privations of beinq a POW. \n  \n
URL:https://www.warwickrotary.org.uk/event/what-did-you-do-in-the-war-dad/
LOCATION:Delta Marriott\, formerly Warwick Hilton\, Stratford Road\, Warwick
CATEGORIES:Club Early Evening Meeting
ORGANIZER;CN="Laurie%20Day%2C%2001926%20410%20891":MAILTO:laurieday34@gmail.com
END:VEVENT
END:VCALENDAR