BEGIN:VCALENDAR
VERSION:2.0
PRODID:-//Rotary Club Of Warwick - ECPv4.9.4//NONSGML v1.0//EN
CALSCALE:GREGORIAN
METHOD:PUBLISH
X-WR-CALNAME:Rotary Club Of Warwick
X-ORIGINAL-URL:https://www.warwickrotary.org.uk
X-WR-CALDESC:Events for Rotary Club Of Warwick
BEGIN:VTIMEZONE
TZID:"UTC"
BEGIN:STANDARD
TZOFFSETFROM:+0000
TZOFFSETTO:+0000
TZNAME:UTC
DTSTART:20230101T000000
END:STANDARD
END:VTIMEZONE
BEGIN:VEVENT
DTSTART;TZID="UTC":20231011T183000
DTEND;TZID="UTC":20231011T203000
DTSTAMP:20260421T194509
CREATED:20231005T144307Z
LAST-MODIFIED:20231005T144307Z
UID:9021-1697049000-1697056200@www.warwickrotary.org.uk
SUMMARY:Who do you think you are?
DESCRIPTION:President Alan Bailey shares his family’s contribution to English & Irish History. \nOpen evening all welcome to join us. \n \n  \n
URL:https://www.warwickrotary.org.uk/event/who-do-you-think-you-are/
LOCATION:Delta Marriott\, formerly Warwick Hilton\, Stratford Road\, Warwick\, CV34 6RE
CATEGORIES:Club Early Evening Meeting
END:VEVENT
END:VCALENDAR