BEGIN:VCALENDAR
VERSION:2.0
PRODID:-//Rotary Club Of Warwick - ECPv4.9.4//NONSGML v1.0//EN
CALSCALE:GREGORIAN
METHOD:PUBLISH
X-WR-CALNAME:Rotary Club Of Warwick
X-ORIGINAL-URL:https://www.warwickrotary.org.uk
X-WR-CALDESC:Events for Rotary Club Of Warwick
BEGIN:VTIMEZONE
TZID:"UTC"
BEGIN:STANDARD
TZOFFSETFROM:+0000
TZOFFSETTO:+0000
TZNAME:UTC
DTSTART:20200101T000000
END:STANDARD
END:VTIMEZONE
BEGIN:VEVENT
DTSTART;TZID="UTC":20200311T180000
DTEND;TZID="UTC":20200311T200000
DTSTAMP:20260421T230738
CREATED:20200226T160342Z
LAST-MODIFIED:20200302T155507Z
UID:7788-1583949600-1583956800@www.warwickrotary.org.uk
SUMMARY:Wine and Rugby - Something different
DESCRIPTION: \nJoin us for the 6-Nations Wine Challenge\nWednesday 11th March  –  £15 per person  – 6 pm to 8 pm\nEnjoy Fun & Fellowship\n  \nCome along if you would like to be part of this group\nThis is a wine tasting social evening\, including buffet and starts at 6.30 pm with a welcome from our President\n  \nTaste the Wines    Decide the Winner\nSupport your team    Wear your Rugby Shirt and bring flags\nAt The Hilton Hotel\, Stratford Road\, Warwick.  CV34 6RE \n  \nStewards – Paul Jaspal\, Camille Sethi\, Chris Wild \n
URL:https://www.warwickrotary.org.uk/event/wine-and-rugby-something-different/
LOCATION:Delta Marriott\, formerly Warwick Hilton\, Stratford Road\, Warwick\, CV34 6RE
CATEGORIES:Club Early Evening Meeting
END:VEVENT
END:VCALENDAR