BEGIN:VCALENDAR
VERSION:2.0
PRODID:-//Rotary Club Of Warwick - ECPv4.9.4//NONSGML v1.0//EN
CALSCALE:GREGORIAN
METHOD:PUBLISH
X-WR-CALNAME:Rotary Club Of Warwick
X-ORIGINAL-URL:https://www.warwickrotary.org.uk
X-WR-CALDESC:Events for Rotary Club Of Warwick
BEGIN:VTIMEZONE
TZID:"UTC"
BEGIN:STANDARD
TZOFFSETFROM:+0000
TZOFFSETTO:+0000
TZNAME:UTC
DTSTART:20180101T000000
END:STANDARD
END:VTIMEZONE
BEGIN:VEVENT
DTSTART;TZID="UTC":20180208T180000
DTEND;TZID="UTC":20180208T210000
DTSTAMP:20260422T183853
CREATED:20180112T164720Z
LAST-MODIFIED:20180112T164720Z
UID:5391-1518112800-1518123600@www.warwickrotary.org.uk
SUMMARY:Youth Speaks - 2018
DESCRIPTION:This annual Public Speaking competition is open to pupils from local schools and youth organisations. \nRegrettably last year’s event had to be cancelled at the last meeting but this year the event\, which has been running for very many years\, is stepping up a gear and moving to a new venue\, which not only provides an excellent facility for all the competitors but also has very good parking facilities close at hand. \nThere are two age groups – the Intermediate Group and the Senior Group\, and each team chooses its own subject on which to speak.   These subjects have proved over the years to be as diverse\, controversial and entertaining as it is possible to be\, and as well as providing an extremely lively evening it introduces those taking part to the art of speaking in public. \nThis event in Warwick is the first stage  for those from this area\, and the winners go forward to further stages of the competition with the ultimate aim of becoming National Champions. \n
URL:https://www.warwickrotary.org.uk/event/youth-speaks-2018/
LOCATION:Northgate Methodist Church\, Barrack Street\, Warwick\, CV34 4TH
CATEGORIES:Outside event
END:VEVENT
END:VCALENDAR