BEGIN:VCALENDAR
VERSION:2.0
PRODID:-//Rotary Club Of Warwick - ECPv4.9.4//NONSGML v1.0//EN
CALSCALE:GREGORIAN
METHOD:PUBLISH
X-WR-CALNAME:Rotary Club Of Warwick
X-ORIGINAL-URL:https://www.warwickrotary.org.uk
X-WR-CALDESC:Events for Rotary Club Of Warwick
BEGIN:VTIMEZONE
TZID:"UTC"
BEGIN:STANDARD
TZOFFSETFROM:+0000
TZOFFSETTO:+0000
TZNAME:UTC
DTSTART:20170101T000000
END:STANDARD
END:VTIMEZONE
BEGIN:VEVENT
DTSTART;TZID="UTC":20170208T173000
DTEND;TZID="UTC":20170208T220000
DTSTAMP:20260423T043051
CREATED:20170110T165750Z
LAST-MODIFIED:20170123T182917Z
UID:4345-1486575000-1486591200@www.warwickrotary.org.uk
SUMMARY:Youth Speaks Competition 2017
DESCRIPTION:Please note that very regrettably this event has had to be cancelled.\nFurther details are posted on our News page\n  \n  \n  \n  \n  \n  \n  \n  \n  \n  \nFor the first time this year’s Youth Speaks competition first round will move to a new venue and will be held at the attractive Chase Meadow Community Centre. \n \nWarwick Rotary Club have been organising this prestigious event for many years and during this time it has produced some wonderfully talented youngsters\, many of whom have gone on to use the experience gained in much greater conglomerations and surroundings. \nAll local schools have been invited to enter teams at Intermediate and Senior level\, including previous winners from Aylesford\, Kings High School\, Kingsley\, Myton. Princethorpe and Warwick and among the many spectators attending will be the Mayor of Warwick\, Councillor Christine Cross\, and the Rotary District Governor of District 1060\, Peter Roberts. \nThe teams will speak on a variety of subjects from the very serious to the light-hearted and even highly controversial\, and experience has shown it to be a most informative and entertaining evening. \nProceedings commence at 5.30pm and admissi0n is free.   Light refreshments will be provided during the evening for competitors and spectators and everyone is welcome. \nPictured below are some competitors from the event in previous years \n   \n
URL:https://www.warwickrotary.org.uk/event/youth-speaks-competition-2017/
LOCATION:Chase Meadow Community Centre\, Narrow Hall Meadow\, Warwick\, CV34 6BT
CATEGORIES:Outside event
END:VEVENT
END:VCALENDAR